BEGIN:VCALENDAR
VERSION:2.0
PRODID:-//Purbo Diganta Foundation - ECPv6.15.20//NONSGML v1.0//EN
CALSCALE:GREGORIAN
METHOD:PUBLISH
X-ORIGINAL-URL:https://purbodigantafoundation.com
X-WR-CALDESC:Events for Purbo Diganta Foundation
REFRESH-INTERVAL;VALUE=DURATION:PT1H
X-Robots-Tag:noindex
X-PUBLISHED-TTL:PT1H
BEGIN:VTIMEZONE
TZID:Asia/Kolkata
BEGIN:STANDARD
TZOFFSETFROM:+0530
TZOFFSETTO:+0530
TZNAME:IST
DTSTART:20230101T000000
END:STANDARD
END:VTIMEZONE
BEGIN:VEVENT
DTSTART;VALUE=DATE:20241209
DTEND;VALUE=DATE:20241211
DTSTAMP:20260420T043557
CREATED:20240715T022715Z
LAST-MODIFIED:20240715T030418Z
UID:6156-1733702400-1733875199@purbodigantafoundation.com
SUMMARY:PDF Foundation Day Celebration
DESCRIPTION:
URL:https://purbodigantafoundation.com/event/pdf-foundation-day-celebration/
LOCATION:Vasundhara Enclave\, Prayag Apartment\, Flat 153\, Vasundhara Enclave\, New Delhi\, 110096\, India
CATEGORIES:Event,Food
ATTACH;FMTTYPE=image/jpeg:https://purbodigantafoundation.com/wp-content/uploads/2024/07/IMG-20240712-WA0030.jpg
END:VEVENT
BEGIN:VEVENT
DTSTART;TZID=Asia/Kolkata:20241222T123000
DTEND;TZID=Asia/Kolkata:20250104T170000
DTSTAMP:20260420T043557
CREATED:20241221T155127Z
LAST-MODIFIED:20241221T161040Z
UID:7583-1734870600-1736010000@purbodigantafoundation.com
SUMMARY:Winter Cloths & Blankets Donation Drive
DESCRIPTION:Let us join hands and “Bring Smile To Faces” \nWith support from all members and the request raised by Digantians\, this year PDF has decided to run a donation drive for distributing winter clothes and blankets. We have released the schedule for the drive. You all can block your calendar and contribute to the drive. I am sure most of our members would make the effort to be a part of it.\n\nWhile we have arranged for blankets and winter clothes\, we would request members to come forward and donate winter clothes/blankets to make the drive even bigger.\n\nVenue Details:\n\n\n\n\nPurboday School Noida\n22nd Dec\, 2024\, 12:30PM\n\n\nRoadside (Delhi\, Noida)\n25th Dec\, 2024\, 8PM\n\n\nPurboday School Noida\n29th Dec\, 2024\, 12:30PM\n\n\nRoadside (Ghaziabad\, Noida)\n31st Dec\, 2024\, 8PM\n\n\nOld Age Home Noida\n4th Jan\, 2025\, 12:30PM
URL:https://purbodigantafoundation.com/event/winter-cloths-blankets-donation-drive/
LOCATION:Purboday School Noida\, Purboday School\, Noida\, India
CATEGORIES:Donation
ATTACH;FMTTYPE=image/jpeg:https://purbodigantafoundation.com/wp-content/uploads/2024/12/Winter-Clothes-Donation_2024.jpg
END:VEVENT
END:VCALENDAR