BEGIN:VCALENDAR
VERSION:2.0
PRODID:-//Purbo Diganta Foundation - ECPv6.15.20//NONSGML v1.0//EN
CALSCALE:GREGORIAN
METHOD:PUBLISH
X-WR-CALNAME:Purbo Diganta Foundation
X-ORIGINAL-URL:https://purbodigantafoundation.com
X-WR-CALDESC:Events for Purbo Diganta Foundation
REFRESH-INTERVAL;VALUE=DURATION:PT1H
X-Robots-Tag:noindex
X-PUBLISHED-TTL:PT1H
BEGIN:VTIMEZONE
TZID:Asia/Kolkata
BEGIN:STANDARD
TZOFFSETFROM:+0530
TZOFFSETTO:+0530
TZNAME:IST
DTSTART:20240101T000000
END:STANDARD
END:VTIMEZONE
BEGIN:VEVENT
DTSTART;VALUE=DATE:20250628
DTEND;VALUE=DATE:20250629
DTSTAMP:20260420T100230
CREATED:20250530T024014Z
LAST-MODIFIED:20250530T025140Z
UID:7779-1751068800-1751155199@purbodigantafoundation.com
SUMMARY:Purboday Skill Workshop – For the First Time in Delhi-NCR
DESCRIPTION:Purbo Diganta Foundation\, in collaboration with Shobdo and Vinay Nagar Bengali Senior Secondary School\, proudly presents the Purboday Skill Workshop – a unique platform to learn and refine skills in Recitation\, Dance\, and Singing. \nJoin us on 28th June 2025 at Vinay Nagar Bengali Senior Secondary School\, New Delhi\, and learn from eminent artists and mentors including: \n\nHon’ble (Mrs.) Vijaylakshmi Barman (Recitation\, Kolkata)\nDr. Sanchali Mukherjee (Recitation)\nSmt. Smita Chakraborty (Dance)\nShri Debu Bhattacharya (Vocal & Instrumental)\nShri Shourashanto Biswas (Vocal & Instrumental)\n\n🎉 For the first time in Delhi-NCR\, Purbo Diganta organizes this skill-enhancing workshop. Registrations are now open! \n🔗 Register Here \n📞 Contact:  +91-8920-212-277 \nAll the best\,Team PDF
URL:https://purbodigantafoundation.com/event/purboday-skill-workshop-for-the-first-time-in-delhi-ncr/
LOCATION:Vinay Nagar Bengali Senior Secondary School\, New Delhi\, Vinay Nagar Bengali Senior Secondary School\, Delhi\, New Delhi\, 110023\, India
CATEGORIES:Workshop
ATTACH;FMTTYPE=image/jpeg:https://purbodigantafoundation.com/wp-content/uploads/2025/05/Event-Purbo-Diganta-Foundation-PURBODAY-Skill-Workshop.jpg
END:VEVENT
BEGIN:VEVENT
DTSTART;TZID=Asia/Kolkata:20250628T090000
DTEND;TZID=Asia/Kolkata:20250628T133000
DTSTAMP:20260420T100230
CREATED:20250626T154438Z
LAST-MODIFIED:20250626T154913Z
UID:7804-1751101200-1751117400@purbodigantafoundation.com
SUMMARY:Purboday Skill Workshop
DESCRIPTION:
URL:https://purbodigantafoundation.com/event/purboday-skill-workshop/
CATEGORIES:Event
ATTACH;FMTTYPE=image/jpeg:https://purbodigantafoundation.com/wp-content/uploads/2025/06/purboday-skill-workshop-program.jpg
END:VEVENT
BEGIN:VEVENT
DTSTART;TZID=Asia/Kolkata:20250817T110000
DTEND;TZID=Asia/Kolkata:20250817T170000
DTSTAMP:20260420T100230
CREATED:20250804T031659Z
LAST-MODIFIED:20250804T031659Z
UID:7815-1755428400-1755450000@purbodigantafoundation.com
SUMMARY:PDF Shorts 3.0
DESCRIPTION:PDF Shorts 3.0(আমি উত্তম – “Ami Uttam”) \nEvent Type:Fund Raiser Event for “Purboday Skill Center” \nEvent Highlights: \nScreening and Discussion on Award-Winning Short Films: \n\nKirchiyaan (Hindi)\nSohocohori\nShaharaa\nBhalo Acchi\nOkiagari\n\n\nGuest Personalities: \n\nSudhir Mishra\nMoon Moon Sen\nDevlina Kumar\nChandan Sen\nDebshankar Haldar\nReshmi Mitra\nSumona Chakravarty\n\nDate:Sunday\, 17th August 2025 \nTime:11:00 AM onwards \nVenue:Godavari Auditorium\, Lodhi Rd.\, New Delhi \nEntry Pass:Donor’s Pass @ ₹300/- per person(Send payment screenshot to below numbers with your name) \nContact Numbers: \n\n8920212277\n9423037787\n9350194105\n\nPurpose:Donate to strengthen PDF’s Skill Development Programme
URL:https://purbodigantafoundation.com/event/pdf-shorts-3-0/
LOCATION:Godavari Auditorium\, Lodhi Rd.\, New Delhi\, Godavari Auditorium\, Lodhi Rd.\, India
CATEGORIES:Donation,Education Event
ATTACH;FMTTYPE=image/jpeg:https://purbodigantafoundation.com/wp-content/uploads/2025/08/Shorts-3-Brochure.jpg
END:VEVENT
BEGIN:VEVENT
DTSTART;VALUE=DATE:20260321
DTEND;VALUE=DATE:20260322
DTSTAMP:20260420T100230
CREATED:20260220T055921Z
LAST-MODIFIED:20260220T060024Z
UID:7845-1774051200-1774137599@purbodigantafoundation.com
SUMMARY:Purbo Diganta Foundation Annual Day 2026 – World Poetry Day Event
DESCRIPTION:Donor Passes are officially OPEN for booking! \nIf you’re ready for music\, poetry & a little Hooligaanism… \n🎟️ Secure your donor pass now through the link https://forms.gle/56LFQFhTUyv9wLLY9 \nYour contribution directly supports skill development initiatives\, empowering talent and nurturing future creators. \nBe present. Be involved. Be the reason someone grows.
URL:https://purbodigantafoundation.com/event/purbo-diganta-foundation-annual-day-2026-world-poetry-day-event/
CATEGORIES:Event
ATTACH;FMTTYPE=image/jpeg:https://purbodigantafoundation.com/wp-content/uploads/2026/02/WhatsApp-Image-2026-02-20-at-09.32.59.jpeg
END:VEVENT
END:VCALENDAR