BEGIN:VCALENDAR
VERSION:2.0
PRODID:-//Purbo Diganta Foundation - ECPv6.15.20//NONSGML v1.0//EN
CALSCALE:GREGORIAN
METHOD:PUBLISH
X-WR-CALNAME:Purbo Diganta Foundation
X-ORIGINAL-URL:https://purbodigantafoundation.com
X-WR-CALDESC:Events for Purbo Diganta Foundation
REFRESH-INTERVAL;VALUE=DURATION:PT1H
X-Robots-Tag:noindex
X-PUBLISHED-TTL:PT1H
BEGIN:VTIMEZONE
TZID:Asia/Kolkata
BEGIN:STANDARD
TZOFFSETFROM:+0530
TZOFFSETTO:+0530
TZNAME:IST
DTSTART:20230101T000000
END:STANDARD
END:VTIMEZONE
BEGIN:VEVENT
DTSTART;VALUE=DATE:20240801
DTEND;VALUE=DATE:20240802
DTSTAMP:20260420T131119
CREATED:20240715T022005Z
LAST-MODIFIED:20240810T174944Z
UID:6148-1722470400-1722556799@purbodigantafoundation.com
SUMMARY:Monthly food distribution
DESCRIPTION:
URL:https://purbodigantafoundation.com/event/monthly-food-distribution-2/
LOCATION:Noida\, Sector 5\, Sector 5\, Noida\, India
CATEGORIES:Food
END:VEVENT
END:VCALENDAR